BEGIN:VCALENDAR
VERSION:2.0
PRODID:-//Co. Innovation Centre - St. John&#039;s, NL - ECPv6.6.4.2//NONSGML v1.0//EN
CALSCALE:GREGORIAN
METHOD:PUBLISH
X-ORIGINAL-URL:https://coic.co
X-WR-CALDESC:Events for Co. Innovation Centre - St. John&#039;s, NL
REFRESH-INTERVAL;VALUE=DURATION:PT1H
X-Robots-Tag:noindex
X-PUBLISHED-TTL:PT1H
BEGIN:VTIMEZONE
TZID:America/Toronto
BEGIN:DAYLIGHT
TZOFFSETFROM:-0500
TZOFFSETTO:-0400
TZNAME:EDT
DTSTART:20260308T070000
END:DAYLIGHT
BEGIN:STANDARD
TZOFFSETFROM:-0400
TZOFFSETTO:-0500
TZNAME:EST
DTSTART:20261101T060000
END:STANDARD
TZID:America/St_Johns
BEGIN:DAYLIGHT
TZOFFSETFROM:-0330
TZOFFSETTO:-0230
TZNAME:NDT
DTSTART:20260308T053000
END:DAYLIGHT
BEGIN:STANDARD
TZOFFSETFROM:-0230
TZOFFSETTO:-0330
TZNAME:NST
DTSTART:20261101T043000
END:STANDARD
END:VTIMEZONE
BEGIN:VEVENT
DTSTART;TZID=America/Toronto:20260319T100000
DTEND;TZID=America/Toronto:20260319T110000
DTSTAMP:20260422T073705
CREATED:20260227T174408Z
LAST-MODIFIED:20260227T174408Z
UID:10000038-1773914400-1773918000@coic.co
SUMMARY:Centre for Analytics\, Informatics\, and Research Coffee Chat
DESCRIPTION:Do you need support with your data or digital solutions? Are you looking to grow your company and considering digital tools to ease resource constraints?  \nYou need to talk to CAIR. \nJoin CAIR for a Coffee Chat at COIC to discover how you can use advanced technology and student expertise to drive innovation or support operations. This session will feature a short introduction to CAIR\, a live demo of their AI-powered talent matching platform\, and an open discussion on collaboration opportunities and real-world challenges.  \nDate: Thursday\, March 19th\nTime: 10:00am – 11:00am\nLocation: Co. Innovation Centre (710 Torbay Rd.) \nAbout CAIR\nThe Centre for Analytics\, Informatics and Research (CAIR) is Memorial University’s AI-enabled high-performance compute teaching data center\, supporting research and the broader Newfoundland ecosystem with secure\, large-scale AI-enabled infrastructure and technical expertise. With advanced computational power\, large-scale data storage\, and secure virtual environments hosted on a high-security sovereign platform\, CAIR helps organizations design\, build\, and run digital solutions. Through discounted data service rates and access to economical\, mentored\, and highly skilled student developers\, CAIR supports innovation that is both cost-effective and sustainable.  \nCAIR’s Helpdesk at COIC\nCAIR’s public helpdesk at the COIC provides businesses with direct access to free technical expertise and advice\, Tuesdays and Thursdays from 9 AM to 11 AM\, offering a drop-in starting point for exploring new ideas and help to solve digital challenges. 
URL:https://coic.co/event/centre-for-analytics-informatics-and-research-coffee-chat/
CATEGORIES:COIC Led
ATTACH;FMTTYPE=image/png:https://coic.co/wp-content/uploads/2026/02/3.png
END:VEVENT
BEGIN:VEVENT
DTSTART;TZID=America/St_Johns:20260507T090000
DTEND;TZID=America/St_Johns:20260507T100000
DTSTAMP:20260422T073705
CREATED:20260420T132210Z
LAST-MODIFIED:20260420T160258Z
UID:10000039-1778144400-1778148000@coic.co
SUMMARY:Export Café YYT (With Jean Léger of NRC-IRAP)
DESCRIPTION:Are you an export-ready SME? Seeking R&D? Intrigued by global commercialization? All of the above? Join us for the second Export Café YYT Session\, hosted by the Trade Commissioner Service\, featuring special guest Jean Léger of NRC-IRAP. \nGlobal trade is changing rapidly\, and it can be hard to keep up. The Trade Commissioner Service and Government of Canada partners at the frontlines to help you navigate through this evolving landscape. Join your local St. John’s-based Trade Commissioners\, along with Special guest Jean Léger from the National Research Council of Canada’s Industrial Research Assistance Program at Export Café YYT. Jean will speak about NRC-IRAP’s international programming\, and how they support companies with international R&D partnerships.   \nExport Café YYT is a bi-monthly drop-in session hosted by the Trade Commissioner Service (TCS) in collaboration with Co. Innovation Centre. These sessions are designed to help Newfoundland and Labrador export-ready companies explore\, prepare for\, and grow in international markets. We can help refine your international business strategy\, leverage our extensive network of Trade Commissioners around the world\, and dive into TCS programs and services. \nIf your company is growth-stage\, R&D-active\, or ready to take your product or service global\, this session was built for you.
URL:https://coic.co/event/export-cafe-yyt-featuring-nrc/
CATEGORIES:COIC Led
ATTACH;FMTTYPE=image/png:https://coic.co/wp-content/uploads/2026/04/4-1.png
END:VEVENT
END:VCALENDAR